BEGIN:VCALENDAR
VERSION:2.0
PRODID:-//TYPO3/NONSGML Calendarize//EN
BEGIN:VEVENT
UID:calendarize-zoomx-wdh-20260605
DTSTAMP:20260422T101345Z
DTSTART:20260605T100000Z
DTEND:20260605T120000Z
SUMMARY:ZoomX WDH
DESCRIPTION:
X-ALT-DESC;FMTTYPE=text/html:
LOCATION:>> zur Sendungsseite (t3://page?uid=145)
END:VEVENT
END:VCALENDAR
