BEGIN:VCALENDAR
VERSION:2.0
PRODID:-//TYPO3/NONSGML Calendarize//EN
BEGIN:VEVENT
UID:calendarize-zoomx-wdh-20260508
DTSTAMP:20260420T105039Z
DTSTART:20260508T100000Z
DTEND:20260508T120000Z
SUMMARY:ZoomX WDH
DESCRIPTION:
X-ALT-DESC;FMTTYPE=text/html:
LOCATION:>> zur Sendungsseite (t3://page?uid=145)
END:VEVENT
END:VCALENDAR
