BEGIN:VCALENDAR
VERSION:2.0
PRODID:-//TYPO3/NONSGML Calendarize//EN
BEGIN:VEVENT
UID:calendarize-zoomx-20260518
DTSTAMP:20260422T101346Z
DTSTART:20260518T180000Z
DTEND:20260518T200000Z
SUMMARY:ZoomX
DESCRIPTION:
X-ALT-DESC;FMTTYPE=text/html:
LOCATION:>> zur Sendungsseite (t3://page?uid=145)
END:VEVENT
END:VCALENDAR
