BEGIN:VCALENDAR
VERSION:2.0
PRODID:-//TYPO3/NONSGML Calendarize//EN
BEGIN:VEVENT
UID:calendarize-vinylcafe-mit-thomas-paul-20260612
DTSTAMP:20260422T084317Z
DTSTART:20260612T140000Z
DTEND:20260612T160000Z
SUMMARY:Nachmittagscafé - Vinylcafé
DESCRIPTION:
X-ALT-DESC;FMTTYPE=text/html:
LOCATION:>> zur Sendungsseite (t3://page?uid=139)
END:VEVENT
END:VCALENDAR
