BEGIN:VCALENDAR
VERSION:2.0
PRODID:-//TYPO3/NONSGML Calendarize//EN
BEGIN:VEVENT
UID:calendarize-vinylcafe-mit-meggs-20260424
DTSTAMP:20260420T105927Z
DTSTART:20260424T140000Z
DTEND:20260424T160000Z
SUMMARY:Nachmittagscafé - Vinylcafé
DESCRIPTION:
X-ALT-DESC;FMTTYPE=text/html:
LOCATION:>> zur Sendungsseite (t3://page?uid=139)
END:VEVENT
END:VCALENDAR
