BEGIN:VCALENDAR
VERSION:2.0
PRODID:-//TYPO3/NONSGML Calendarize//EN
BEGIN:VEVENT
UID:calendarize-top20-countdown-20260522
DTSTAMP:20260424T082246Z
DTSTART:20260522T160000Z
DTEND:20260522T180000Z
SUMMARY:Top20 Countdown
DESCRIPTION:
X-ALT-DESC;FMTTYPE=text/html:
LOCATION:>> zur Sendungsseite (t3://page?uid=146)
END:VEVENT
END:VCALENDAR
