BEGIN:VCALENDAR
VERSION:2.0
PRODID:-//TYPO3/NONSGML Calendarize//EN
BEGIN:VEVENT
UID:calendarize-spots-timewarp-wdh-20260618
DTSTAMP:20260424T094835Z
DTSTART:20260618T180000Z
DTEND:20260618T200000Z
SUMMARY:Spots Timewarp WDH
DESCRIPTION:
X-ALT-DESC;FMTTYPE=text/html:
LOCATION:>> zur Sendungsseite (t3://page?uid=143)
END:VEVENT
END:VCALENDAR
