BEGIN:VCALENDAR
VERSION:2.0
PRODID:-//TYPO3/NONSGML Calendarize//EN
BEGIN:VEVENT
UID:calendarize-spots-timewarp-20260514
DTSTAMP:20260420T104917Z
DTSTART:20260514T180000Z
DTEND:20260514T200000Z
SUMMARY:Spots Timewarp
DESCRIPTION:
X-ALT-DESC;FMTTYPE=text/html:
LOCATION:>> zur Sendungsseite (t3://page?uid=143)
END:VEVENT
END:VCALENDAR
