BEGIN:VCALENDAR
VERSION:2.0
PRODID:-//TYPO3/NONSGML Calendarize//EN
BEGIN:VEVENT
UID:calendarize-schlagerrallye-20260505
DTSTAMP:20260420T104937Z
DTSTART:20260505T160000Z
DTEND:20260505T180000Z
SUMMARY:Schlagerrallye
DESCRIPTION:Eine wilde Fahrt durch die Welt des Schlagers
X-ALT-DESC;FMTTYPE=text/html:<p>Eine wilde Fahrt durch die Welt des Schlag
 ers</p>
LOCATION:>> zur Sendungsseite (t3://page?uid=142)
END:VEVENT
END:VCALENDAR
