BEGIN:VCALENDAR
VERSION:2.0
PRODID:-//TYPO3/NONSGML Calendarize//EN
BEGIN:VEVENT
UID:calendarize-radiofruehstueck-wdh-20260603
DTSTAMP:20260420T105947Z
DTSTART:20260603T100000Z
DTEND:20260603T120000Z
SUMMARY:Radiofrühstück WDH
DESCRIPTION:
X-ALT-DESC;FMTTYPE=text/html:
LOCATION:>> zur Sendungsseite (t3://page?uid=140)
END:VEVENT
END:VCALENDAR
