BEGIN:VCALENDAR
VERSION:2.0
PRODID:-//TYPO3/NONSGML Calendarize//EN
BEGIN:VEVENT
UID:calendarize-radiofruehstueck-20260523
DTSTAMP:20260420T105431Z
DTSTART:20260523T060000Z
DTEND:20260523T080000Z
SUMMARY:Radiofrühstück
DESCRIPTION:
X-ALT-DESC;FMTTYPE=text/html:
LOCATION:>> zur Sendungsseite (t3://page?uid=140)
END:VEVENT
END:VCALENDAR
