BEGIN:VCALENDAR
VERSION:2.0
PRODID:-//TYPO3/NONSGML Calendarize//EN
BEGIN:VEVENT
UID:calendarize-radiofruehstueck-20260516
DTSTAMP:20260422T101540Z
DTSTART:20260516T060000Z
DTEND:20260516T080000Z
SUMMARY:Radiofrühstück
DESCRIPTION:
X-ALT-DESC;FMTTYPE=text/html:
LOCATION:>> zur Sendungsseite (t3://page?uid=140)
END:VEVENT
END:VCALENDAR
