BEGIN:VCALENDAR
VERSION:2.0
PRODID:-//TYPO3/NONSGML Calendarize//EN
BEGIN:VEVENT
UID:calendarize-radiobude-20260516
DTSTAMP:20260422T100711Z
DTSTART:20260516T140000Z
DTEND:20260516T160000Z
SUMMARY:Radiobude
DESCRIPTION:
X-ALT-DESC;FMTTYPE=text/html:
LOCATION:>> zur Sendungsseite (t3://page?uid=135)
END:VEVENT
END:VCALENDAR
