BEGIN:VCALENDAR
VERSION:2.0
PRODID:-//TYPO3/NONSGML Calendarize//EN
BEGIN:VEVENT
UID:calendarize-plattbude
DTSTAMP:20260422T095942Z
DTSTART:20260418T080000Z
DTEND:20260418T170000Z
SUMMARY:Plattbude
DESCRIPTION:
X-ALT-DESC;FMTTYPE=text/html:
LOCATION:>> Radiobude (t3://page?uid=135)
END:VEVENT
END:VCALENDAR
