BEGIN:VCALENDAR
VERSION:2.0
PRODID:-//TYPO3/NONSGML Calendarize//EN
BEGIN:VEVENT
UID:calendarize-nachmittagscafe-oldies-mit-thomas-paul-20260417
DTSTAMP:20260420T110039Z
DTSTART:20260417T140000Z
DTEND:20260417T160000Z
SUMMARY:Nachmittagscafé Oldies
DESCRIPTION:
X-ALT-DESC;FMTTYPE=text/html:
LOCATION:>> zur Sendungsseite (t3://page?uid=139)
END:VEVENT
END:VCALENDAR
