BEGIN:VCALENDAR
VERSION:2.0
PRODID:-//TYPO3/NONSGML Calendarize//EN
BEGIN:VEVENT
UID:calendarize-nachmittagscafe-mathias-20260517
DTSTAMP:20260422T101540Z
DTSTART:20260517T140000Z
DTEND:20260517T160000Z
SUMMARY:Nachmittagscafé
DESCRIPTION:
X-ALT-DESC;FMTTYPE=text/html:
LOCATION:>> zur Sendungsseite (t3://page?uid=139)
END:VEVENT
END:VCALENDAR
