BEGIN:VCALENDAR
VERSION:2.0
PRODID:-//TYPO3/NONSGML Calendarize//EN
BEGIN:VEVENT
UID:calendarize-nachmittagscafe-maennermusik-20260524
DTSTAMP:20260422T084636Z
DTSTART:20260524T140000Z
DTEND:20260524T160000Z
SUMMARY:Nachmittagscafé Männermusik
DESCRIPTION:
X-ALT-DESC;FMTTYPE=text/html:
LOCATION:>> zur Sendungsseite (t3://page?uid=139)
END:VEVENT
END:VCALENDAR
