BEGIN:VCALENDAR
VERSION:2.0
PRODID:-//TYPO3/NONSGML Calendarize//EN
BEGIN:VEVENT
UID:calendarize-nachmittagscafe-kaffeekraenzchen-20260510
DTSTAMP:20260420T105452Z
DTSTART:20260510T140000Z
DTEND:20260510T160000Z
SUMMARY:Nachmittagscafé Kaffeekränzchen
DESCRIPTION:
X-ALT-DESC;FMTTYPE=text/html:
LOCATION:>> zur Sendungsseite (t3://page?uid=139)
END:VEVENT
END:VCALENDAR
