BEGIN:VCALENDAR
VERSION:2.0
PRODID:-//TYPO3/NONSGML Calendarize//EN
BEGIN:VEVENT
UID:calendarize-nachmittagscafe-kaffeekraenzchen-20260412
DTSTAMP:20260420T105932Z
DTSTART:20260412T140000Z
DTEND:20260412T160000Z
SUMMARY:Nachmittagscafé Kaffeekränzchen
DESCRIPTION:
X-ALT-DESC;FMTTYPE=text/html:
LOCATION:>> zur Sendungsseite (t3://page?uid=139)
END:VEVENT
END:VCALENDAR
