BEGIN:VCALENDAR
VERSION:2.0
PRODID:-//TYPO3/NONSGML Calendarize//EN
BEGIN:VEVENT
UID:calendarize-nachmittagscafe-expresso-mit-freitagsduo-20260605
DTSTAMP:20260420T105636Z
DTSTART:20260605T140000Z
DTEND:20260605T160000Z
SUMMARY:Nachmittagscafé expresso
DESCRIPTION:Heute öffnet das Nachmittagscafé mit dem FreitagsDuo. Heißt
  es jetzt expresso oder espresso? Anja und mEGGs gehen dieser Frage nach.
X-ALT-DESC;FMTTYPE=text/html:<p>Heute öffnet das Nachmittagscafé mit dem
  FreitagsDuo. Heißt es jetzt expresso oder espresso? Anja und mEGGs gehen
  dieser Frage nach.</p>
LOCATION:>> zur Sendungsseite (t3://page?uid=139)
END:VEVENT
END:VCALENDAR
