BEGIN:VCALENDAR
VERSION:2.0
PRODID:-//TYPO3/NONSGML Calendarize//EN
BEGIN:VEVENT
UID:calendarize-nachmittagscafe-durch-die-bank-mit-mecky-20260601
DTSTAMP:20260420T110233Z
DTSTART:20260601T140000Z
DTEND:20260601T160000Z
SUMMARY:Nachmittagscafé durch die Bank
DESCRIPTION:
X-ALT-DESC;FMTTYPE=text/html:
LOCATION:>> zur Sendungsseite (t3://page?uid=139)
END:VEVENT
END:VCALENDAR
