BEGIN:VCALENDAR
VERSION:2.0
PRODID:-//TYPO3/NONSGML Calendarize//EN
BEGIN:VEVENT
UID:calendarize-nachmittagscafe-durch-die-bank-mit-mecky-20260420
DTSTAMP:20260420T023336Z
DTSTART:20260420T140000Z
DTEND:20260420T160000Z
SUMMARY:Nachmittagscafé durch die Bank
DESCRIPTION:
X-ALT-DESC;FMTTYPE=text/html:
LOCATION:>> zur Sendungsseite (t3://page?uid=139)
END:VEVENT
END:VCALENDAR
