BEGIN:VCALENDAR
VERSION:2.0
PRODID:-//TYPO3/NONSGML Calendarize//EN
BEGIN:VEVENT
UID:calendarize-nachmittagscafe-deutsch-20260414
DTSTAMP:20260420T105850Z
DTSTART:20260414T140000Z
DTEND:20260414T160000Z
SUMMARY:Nachmittagscafé deutsch
DESCRIPTION:
X-ALT-DESC;FMTTYPE=text/html:
LOCATION:>> zur Sendungsseite (t3://page?uid=139)
END:VEVENT
END:VCALENDAR
