BEGIN:VCALENDAR
VERSION:2.0
PRODID:-//TYPO3/NONSGML Calendarize//EN
BEGIN:VEVENT
UID:calendarize-nachmittagscafe-der-kleine-freitag-20260528
DTSTAMP:20260420T110136Z
DTSTART:20260528T140000Z
DTEND:20260528T160000Z
SUMMARY:Nachmittagscafé der kleine Freitag
DESCRIPTION:
X-ALT-DESC;FMTTYPE=text/html:
LOCATION:>> zur Sendungsseite (t3://page?uid=139)
END:VEVENT
END:VCALENDAR
