BEGIN:VCALENDAR
VERSION:2.0
PRODID:-//TYPO3/NONSGML Calendarize//EN
BEGIN:VEVENT
UID:calendarize-nachmittagscafe-80s-20260525
DTSTAMP:20260420T105304Z
DTSTART:20260525T140000Z
DTEND:20260525T160000Z
SUMMARY:Nachmittagscafé 80s
DESCRIPTION:
X-ALT-DESC;FMTTYPE=text/html:
LOCATION:>> zur Sendungsseite (t3://page?uid=139)
END:VEVENT
END:VCALENDAR
