BEGIN:VCALENDAR
VERSION:2.0
PRODID:-//TYPO3/NONSGML Calendarize//EN
BEGIN:VEVENT
UID:calendarize-kuenstlercafe-deutsch-20260616
DTSTAMP:20260422T084500Z
DTSTART:20260616T140000Z
DTEND:20260616T160000Z
SUMMARY:Nachmittagscafé - Künstlercafé
DESCRIPTION:
X-ALT-DESC;FMTTYPE=text/html:
LOCATION:>> zur Sendungsseite (t3://page?uid=139)
END:VEVENT
END:VCALENDAR
