BEGIN:VCALENDAR
VERSION:2.0
PRODID:-//TYPO3/NONSGML Calendarize//EN
BEGIN:VEVENT
UID:calendarize-ear-music-hall-wdh-20260504
DTSTAMP:20260424T082926Z
DTSTART:20260504T200000Z
DTEND:20260504T215900Z
SUMMARY:Ear Music Hall WDH
DESCRIPTION:
X-ALT-DESC;FMTTYPE=text/html:
LOCATION:>> zur Sendungsseite (t3://page?uid=131)
END:VEVENT
END:VCALENDAR
