BEGIN:VCALENDAR
VERSION:2.0
PRODID:-//TYPO3/NONSGML Calendarize//EN
BEGIN:VEVENT
UID:calendarize-ear-music-hall-vinyl-wdh-20260606
DTSTAMP:20260420T110045Z
DTSTART:20260606T200000Z
DTEND:20260606T215900Z
SUMMARY:Ear Music Hall - Vinyl WDH
DESCRIPTION:
X-ALT-DESC;FMTTYPE=text/html:
LOCATION:>> zur Sendungsseite (t3://page?uid=131)
END:VEVENT
END:VCALENDAR
