BEGIN:VCALENDAR
VERSION:2.0
PRODID:-//TYPO3/NONSGML Calendarize//EN
BEGIN:VEVENT
UID:calendarize-ear-music-hall-vinyl-20260613
DTSTAMP:20260424T082848Z
DTSTART:20260613T180000Z
DTEND:20260613T200000Z
SUMMARY:Ear Music Hall - Vinyl
DESCRIPTION:
X-ALT-DESC;FMTTYPE=text/html:
LOCATION:>> zur Sendungsseite (t3://page?uid=131)
END:VEVENT
END:VCALENDAR
