BEGIN:VCALENDAR
VERSION:2.0
PRODID:-//TYPO3/NONSGML Calendarize//EN
BEGIN:VEVENT
UID:calendarize-ear-music-hall-vinyl-20260516
DTSTAMP:20260422T084428Z
DTSTART:20260516T180000Z
DTEND:20260516T200000Z
SUMMARY:Ear Music Hall - Vinyl
DESCRIPTION:
X-ALT-DESC;FMTTYPE=text/html:
LOCATION:>> zur Sendungsseite (t3://page?uid=131)
END:VEVENT
END:VCALENDAR
