BEGIN:VCALENDAR
VERSION:2.0
PRODID:-//TYPO3/NONSGML Calendarize//EN
BEGIN:VEVENT
UID:calendarize-ear-music-hall-20260608
DTSTAMP:20260424T082527Z
DTSTART:20260608T180000Z
DTEND:20260608T200000Z
SUMMARY:Ear Music Hall
DESCRIPTION:
X-ALT-DESC;FMTTYPE=text/html:
LOCATION:>> zur Sendungsseite (t3://page?uid=131)
END:VEVENT
END:VCALENDAR
