BEGIN:VCALENDAR
VERSION:2.0
PRODID:-//TYPO3/NONSGML Calendarize//EN
BEGIN:VEVENT
UID:calendarize-deutsche-hits-20260519
DTSTAMP:20260420T104831Z
DTSTART:20260519T120000Z
DTEND:20260519T140000Z
SUMMARY:Deutsche Hits
DESCRIPTION:
X-ALT-DESC;FMTTYPE=text/html:
LOCATION:>> zur Sendungsseite (t3://page?uid=153)
END:VEVENT
END:VCALENDAR
