BEGIN:VCALENDAR
VERSION:2.0
PRODID:-//TYPO3/NONSGML Calendarize//EN
BEGIN:VEVENT
UID:calendarize-deutsche-hits-1-20260609
DTSTAMP:20260420T104918Z
DTSTART:20260609T120000Z
DTEND:20260609T140000Z
SUMMARY:Deutsche Hits WDH
DESCRIPTION:
X-ALT-DESC;FMTTYPE=text/html:
LOCATION:>> zur Sendungsseite (t3://page?uid=153)
END:VEVENT
END:VCALENDAR
