BEGIN:VCALENDAR
VERSION:2.0
PRODID:-//TYPO3/NONSGML Calendarize//EN
BEGIN:VEVENT
UID:calendarize-countrykiste-wdh-20260612
DTSTAMP:20260420T110002Z
DTSTART:20260612T120000Z
DTEND:20260612T140000Z
SUMMARY:Countrykiste WDH
DESCRIPTION:
X-ALT-DESC;FMTTYPE=text/html:
LOCATION:>> zur Sendungsseite (t3://page?uid=129)
END:VEVENT
END:VCALENDAR
