BEGIN:VCALENDAR
VERSION:2.0
PRODID:-//TYPO3/NONSGML Calendarize//EN
BEGIN:VEVENT
UID:calendarize-countrykiste-20260512
DTSTAMP:20260424T095341Z
DTSTART:20260512T180000Z
DTEND:20260512T200000Z
SUMMARY:Countrykiste
DESCRIPTION:
X-ALT-DESC;FMTTYPE=text/html:
LOCATION:>> zur Sendungsseite (t3://page?uid=129)
END:VEVENT
END:VCALENDAR
