BEGIN:VCALENDAR
VERSION:2.0
PRODID:-//TYPO3/NONSGML Calendarize//EN
BEGIN:VEVENT
UID:calendarize-country-tunes-20260607
DTSTAMP:20260422T084228Z
DTSTART:20260607T180000Z
DTEND:20260607T200000Z
SUMMARY:Country Tunes
DESCRIPTION:
X-ALT-DESC;FMTTYPE=text/html:
LOCATION:>> zur Sendungsseite (t3://page?uid=205)
END:VEVENT
END:VCALENDAR
