BEGIN:VCALENDAR
VERSION:2.0
PRODID:-//TYPO3/NONSGML Calendarize//EN
BEGIN:VEVENT
UID:calendarize-aus-dem-sendezimmer-20260517
DTSTAMP:20260420T105304Z
DTSTART:20260517T100000Z
DTEND:20260517T120000Z
SUMMARY:Aus dem Sendezimmer
DESCRIPTION:
X-ALT-DESC;FMTTYPE=text/html:
LOCATION:>> zur Sendungsseite (t3://page?uid=188)
END:VEVENT
END:VCALENDAR
