BEGIN:VCALENDAR
VERSION:2.0
PRODID:-//TYPO3/NONSGML Calendarize//EN
BEGIN:VEVENT
UID:calendarize-aus-dem-sendezimmer-1-20260528
DTSTAMP:20260422T084305Z
DTSTART:20260528T120000Z
DTEND:20260528T140000Z
SUMMARY:Aus dem Sendezimmer WDH
DESCRIPTION:
X-ALT-DESC;FMTTYPE=text/html:
LOCATION:>> zur Sendungsseite (t3://page?uid=188)
END:VEVENT
END:VCALENDAR
