BEGIN:VCALENDAR
VERSION:2.0
PRODID:-//TYPO3/NONSGML Calendarize//EN
BEGIN:VEVENT
UID:calendarize-33-45-wdh-20260613
DTSTAMP:20260422T084756Z
DTSTART:20260613T200000Z
DTEND:20260613T215900Z
SUMMARY:33/45 WDH
DESCRIPTION:
X-ALT-DESC;FMTTYPE=text/html:
LOCATION:>> zur Sendungsseite (t3://page?uid=126)
END:VEVENT
END:VCALENDAR
