BEGIN:VCALENDAR
VERSION:2.0
PRODID:-//TYPO3/NONSGML Calendarize//EN
BEGIN:VEVENT
UID:calendarize-33-45-20260606
DTSTAMP:20260424T095055Z
DTSTART:20260606T180000Z
DTEND:20260606T200000Z
SUMMARY:33/45
DESCRIPTION:
X-ALT-DESC;FMTTYPE=text/html:
LOCATION:>> zur Sendungsseite (t3://page?uid=126)
END:VEVENT
END:VCALENDAR
